BEGIN:VCALENDAR
VERSION:2.0
PRODID:-//a British and Commonwealth of Nations Women&#039;s Organization - ECPv6.15.20//NONSGML v1.0//EN
CALSCALE:GREGORIAN
METHOD:PUBLISH
X-WR-CALNAME:a British and Commonwealth of Nations Women&#039;s Organization
X-ORIGINAL-URL:https://dbeinpa.org
X-WR-CALDESC:Events for a British and Commonwealth of Nations Women&#039;s Organization
REFRESH-INTERVAL;VALUE=DURATION:PT1H
X-Robots-Tag:noindex
X-PUBLISHED-TTL:PT1H
BEGIN:VTIMEZONE
TZID:UTC
BEGIN:STANDARD
TZOFFSETFROM:+0000
TZOFFSETTO:+0000
TZNAME:UTC
DTSTART:20240101T000000
END:STANDARD
END:VTIMEZONE
BEGIN:VEVENT
DTSTART;TZID=UTC:20250501T080000
DTEND;TZID=UTC:20250501T170000
DTSTAMP:20260421T235843
CREATED:20241122T190842Z
LAST-MODIFIED:20250410T233719Z
UID:2176-1746086400-1746118800@dbeinpa.org
SUMMARY:National Council Meeting
DESCRIPTION:Warwick Rittenhouse Square Hotel\n\n\n\n\n\n\n\n\n\n\n\n\n\n\n\n\n\nSpecial Group rates Wednesday\, April 30\, 2024 – Sunday\, May 4\, 2024. \n\n\n\n249.00 USD – 269.00 USD per night – Last Day to Book : Tuesday\, April 01\, 2025 \n\n\n\nBook your group rate for Daughters of the British Empire \n\n\n\nThe direct number for reservations is 1-888-236-2427 and the attendees will give the name Daughters of the Empire or Group code DOB  \n\n\n\nThe credit card will not be charged until the guest arrives \n\n\n\n220 South 17th Street\, Philadelphia\, PA 19103\n\n\n\nMay 1-3\, 2025
URL:https://dbeinpa.org/event/national-council-meeting/
LOCATION:Pennsylvania
END:VEVENT
BEGIN:VEVENT
DTSTART;TZID=UTC:20250531T140000
DTEND;TZID=UTC:20250531T160000
DTSTAMP:20260421T235843
CREATED:20250212T124412Z
LAST-MODIFIED:20250212T132339Z
UID:2231-1748700000-1748707200@dbeinpa.org
SUMMARY:Keep Calm & Put the Kettle On
DESCRIPTION:Keep Calm & Put the Kettle OnDownload
URL:https://dbeinpa.org/event/keep-calm-put-the-kettle-on/
LOCATION:Saint John’s Episcopal Church Parish Hall\, 576 Concord Road\, Glen Mills\, Pennsylvania\, 19342
END:VEVENT
END:VCALENDAR