BEGIN:VCALENDAR
VERSION:2.0
PRODID:-//a British and Commonwealth of Nations Women&#039;s Organization - ECPv6.15.20//NONSGML v1.0//EN
CALSCALE:GREGORIAN
METHOD:PUBLISH
X-WR-CALNAME:a British and Commonwealth of Nations Women&#039;s Organization
X-ORIGINAL-URL:https://dbeinpa.org
X-WR-CALDESC:Events for a British and Commonwealth of Nations Women&#039;s Organization
REFRESH-INTERVAL;VALUE=DURATION:PT1H
X-Robots-Tag:noindex
X-PUBLISHED-TTL:PT1H
BEGIN:VTIMEZONE
TZID:UTC
BEGIN:STANDARD
TZOFFSETFROM:+0000
TZOFFSETTO:+0000
TZNAME:UTC
DTSTART:20240101T000000
END:STANDARD
END:VTIMEZONE
BEGIN:VEVENT
DTSTART;TZID=UTC:20250301T060000
DTEND;TZID=UTC:20250301T210000
DTSTAMP:20260422T030456
CREATED:20250212T131858Z
LAST-MODIFIED:20250212T132656Z
UID:2251-1740808800-1740862800@dbeinpa.org
SUMMARY:The Welsh Society 297th Reception and Banquet
DESCRIPTION:Book Your Reservation\n\n\n\nDonate
URL:https://dbeinpa.org/event/the-welsh-society-297th-reception-and-banquet/
LOCATION:Pennsylvania
END:VEVENT
BEGIN:VEVENT
DTSTART;TZID=UTC:20250309T150000
DTEND;TZID=UTC:20250309T170000
DTSTAMP:20260422T030456
CREATED:20250211T214526Z
LAST-MODIFIED:20250211T222949Z
UID:2195-1741532400-1741539600@dbeinpa.org
SUMMARY:MANHUNT Viewing Party
DESCRIPTION:The Royal Heritage Society of Delaware Valley invites you to \n\n\n\n\n\nView scenes shot at  \n\n\n\nOrmiston Mansion \n\n\n\nan Apple TV production \n\n\n\nMANHUNT \n\n\n\nSeries about the hunt for Lincoln’s assassin. Discover the fascinating story behind Ormiston’s transformation for the filming. \n\n\n\n\n\n\n\n\n\n\n\nSunday\, March 9th\, 3:00 p.m.Ormiston Mansion2000 Reservoir Drive Philadelphia\, PA 19121 \n\n\n\nCocktails & Hors d’oeuvres \n\n\n\nPlease make checks payable to Royal Heritage Society & mail to: Susan Jablokov PO Box 403 Wayne\, PA 19087For more information call 215 470 3562 or sjablokov@yahoo.com \n\n\n\nWe look forward to seeing you ! \n\n\n\n\n\n$43 members \n\n\n\n\n\n$48 for Guest
URL:https://dbeinpa.org/event/manhunt-viewing-party/
LOCATION:Ormiston\, 2000 Reservoir Drive\, Philadelphia\, Pennsylvania\, 19121\, United States
ORGANIZER;CN="Susan Jablokov":MAILTO:sjablokov@yahoo.com
END:VEVENT
BEGIN:VEVENT
DTSTART;TZID=UTC:20250315T094500
DTEND;TZID=UTC:20250315T140000
DTSTAMP:20260422T030456
CREATED:20240930T210111Z
LAST-MODIFIED:20250305T200730Z
UID:2061-1742031900-1742047200@dbeinpa.org
SUMMARY:2025 DBE in PA Annual Council Meeting
DESCRIPTION:All Members are invited to attend our Annual Council Meeting. \n\n\n\n\n\n\n\n\n\n\n\nNEW!\n\n\n\n Pay for the ACM Online with Zeffy!\n\n\n\n\n\n\n\nScan this QR Code. It’s simple. \n\n\n\nDownload the invitation here!Download
URL:https://dbeinpa.org/event/2025acm/
LOCATION:Overbrook Golf Club – Villanova\, 799 Godfrey Road\, Villanova\, Pennsylvania\, 19085\, United States
ORGANIZER;CN="Danielle VanRuyckevelt - 1st VP":MAILTO:1stvicepresident@dbeinpa.org
END:VEVENT
BEGIN:VEVENT
DTSTART;TZID=UTC:20250330T173000
DTEND;TZID=UTC:20250330T203000
DTSTAMP:20260422T030456
CREATED:20250212T130535Z
LAST-MODIFIED:20250212T131055Z
UID:2240-1743355800-1743366600@dbeinpa.org
SUMMARY:A Salute to Oliver!
DESCRIPTION:A Salute to Oliver!Download\n\n\n\nYou are cordially invited to join us for a special evening celebrating \n\n\n\nThe Hon. Oliver St. Clair Franklin\, CBE\, \n\n\n\nAs he departs from his distinguished role as Honorary British Consul to Greater Philadelphia after 27 remarkable years of service. \n\n\n\nDuring his tenure\, Mr. Franklin has served as an invaluable bridge between Philadelphia and the United Kingdom\, fostering international cooperation\, cultural exchange\, and educational opportunities. His dedication was recognized by Queen Elizabeth II with both an OBE and CBE for his extraordinary contributions to U.S.-UK relations. \n\n\n\nProceeds will benefit The Duke of Edinburgh International Award USA\, a program Mr. Franklin helped bring to Philadelphia that continues to thrive under the Philadelphia Outward Bound School. \n\n\n\nPURCHASE TICKETS HERE \n\n\n\nTo pay by check\, please make the check payable to The English-Speaking Union and mail to 1221 Locust Street\, #502\, Philadelphia\, PA 19107.  A printable invitation is attached for your convenience \n\n\n\nFor questions or additional information\, please contact: PhilaESU@gmail.com \n\n\n\nWe look forward to celebrating this momentous occasion with you.
URL:https://dbeinpa.org/event/a-salute-to-oliver/
LOCATION:Overbrook Golf Club – Villanova\, 799 Godfrey Road\, Villanova\, Pennsylvania\, 19085\, United States
END:VEVENT
END:VCALENDAR