BEGIN:VCALENDAR
VERSION:2.0
PRODID:-//a British and Commonwealth of Nations Women&#039;s Organization - ECPv6.15.20//NONSGML v1.0//EN
CALSCALE:GREGORIAN
METHOD:PUBLISH
X-WR-CALNAME:a British and Commonwealth of Nations Women&#039;s Organization
X-ORIGINAL-URL:https://dbeinpa.org
X-WR-CALDESC:Events for a British and Commonwealth of Nations Women&#039;s Organization
REFRESH-INTERVAL;VALUE=DURATION:PT1H
X-Robots-Tag:noindex
X-PUBLISHED-TTL:PT1H
BEGIN:VTIMEZONE
TZID:UTC
BEGIN:STANDARD
TZOFFSETFROM:+0000
TZOFFSETTO:+0000
TZNAME:UTC
DTSTART:20220101T000000
END:STANDARD
END:VTIMEZONE
BEGIN:VEVENT
DTSTART;TZID=UTC:20240314T180000
DTEND;TZID=UTC:20240314T200000
DTSTAMP:20260421T221122
CREATED:20240126T132402Z
LAST-MODIFIED:20240207T170031Z
UID:1466-1710439200-1710446400@dbeinpa.org
SUMMARY:Rose of Chester Chapter Meeting
DESCRIPTION:Rose of Chester Chapter March meeting at The Hickman on Thursday\, March 14th at 6 p.m. We will be doing a tour of the facility and would love for you to join us.  \n\n\n\nIf you are not familiar with The Hickman\, it is a Quaker 501(c)(3) senior living facility. Here is a link to their website. https://www.thehickman.org/ They have been very generous with offering meeting and event space. We will be holding our Founders Day tea here too but our meeting in March is the best time to get the full tour. \n\n\n\nINVITATION ONLY: Please let us know if you plan to attend. We will have hors d’oeuvres and wine. We look forward to seeing you.
URL:https://dbeinpa.org/event/rose-of-chester-chapter-meeting/
LOCATION:The Hickman\, 400 N Walnut Street\, West Chester\, 19380
ORGANIZER;CN="Danielle VanRuyckevelt":MAILTO:daniellewvr@gmail.com
END:VEVENT
BEGIN:VEVENT
DTSTART;TZID=UTC:20240302T180000
DTEND;TZID=UTC:20240302T210000
DTSTAMP:20260421T221122
CREATED:20240312T171101Z
LAST-MODIFIED:20240312T171104Z
UID:1516-1709402400-1709413200@dbeinpa.org
SUMMARY:The Welsh Society's 296th Reception and Banquet
DESCRIPTION:The Welsh Society of Philadelphia cordially invites you to attend the 296th Reception and Banquet.Saturday evening the second of March two thousand and twenty four to observe Saint David’s Day and to honorAward wining Welsh animatorsSis Mills and Joanna ZineThe Philadelphia Cricket Club at Saint Martins415 West Willow Grove AvenuePhiladelphia PennsylvaniaMusic from Urdd Gobaith CymruReception 6:00 p.m. Dinner 7:00 p.m.Black Tie OptionalGuests are Welcome
URL:https://dbeinpa.org/event/the-welsh-societys-296th-reception-and-banquet/
END:VEVENT
BEGIN:VEVENT
DTSTART;TZID=UTC:20240131T120000
DTEND;TZID=UTC:20240131T120000
DTSTAMP:20260421T221122
CREATED:20240207T173435Z
LAST-MODIFIED:20240207T173437Z
UID:1484-1706702400-1706702400@dbeinpa.org
SUMMARY:FINAL DEADLINE: Dues Due
DESCRIPTION:
URL:https://dbeinpa.org/event/final-deadline-dues-due/
END:VEVENT
BEGIN:VEVENT
DTSTART;TZID=UTC:20240120T113000
DTEND;TZID=UTC:20240120T170000
DTSTAMP:20260421T221122
CREATED:20231219T124633Z
LAST-MODIFIED:20231219T130212Z
UID:1417-1705750200-1705770000@dbeinpa.org
SUMMARY:A Poetic Celebration of Robert Burns Birthday Hosted by: Charnwood Forest Chapter
DESCRIPTION:Date: Saturday\, January 20\,2024 \nTime: 11:30 am \nWhere: Episcopal Church of the Messiah\n1001 Dekalb Pike (Route 202) • Lower Gwynedd\, PA 19002 Located next to the William Penn Inn \nEntertainment: CHARLIE ZAHM\, World Famous Celtic Baritone The Watson Brothers\, Bagpipes and Drums \nBrunch. Lunch. : Scottish Cuisine Includes Haggis\, Neeps & Tatties \nCost: $35.00 \nRSVP By: January 10\, 2024 \nMake Checks Payable to:\nDBE IN PA\nMail to: Mrs. Gail Mignogna\n301 Norristown Road • Apt B-210 • Ambler\, PA 19002 \n\nDownload the invite here:\nDBE-Burn-Invite
URL:https://dbeinpa.org/event/a-poetic-celebration-of-robert-burns-birthday-hosted-by-charnwood-forest-chapter/
LOCATION:Episcopal Church of the Messiah\, 1001 Dekalb Pike\, Lower Gwynedd\, PA\, 19002
END:VEVENT
BEGIN:VEVENT
DTSTART;TZID=UTC:20230603T130000
DTEND;TZID=UTC:20230603T170000
DTSTAMP:20260421T221122
CREATED:20230302T163448Z
LAST-MODIFIED:20230312T160950Z
UID:870-1685797200-1685811600@dbeinpa.org
SUMMARY:Coronation of His Majesty King Charles Ill
DESCRIPTION:DBE in PA State Board & Crown Chapter\nInvite You To\nSAVE THE DATE\nJune 3rd 2023\nJoin us to clelbrate the\nCORONATION\nof\nHIS MAJESTY\nKING CHARLES Ill\nSt. Johns Episcopal Church\nConcorville
URL:https://dbeinpa.org/event/save-the-date-coronation-of-his-majesty-king-charles-ill/
END:VEVENT
BEGIN:VEVENT
DTSTART;TZID=UTC:20230502T190000
DTEND;TZID=UTC:20230502T203000
DTSTAMP:20260421T221122
CREATED:20230312T161138Z
LAST-MODIFIED:20230312T161138Z
UID:1054-1683054000-1683059400@dbeinpa.org
SUMMARY:State Board Meeting
DESCRIPTION:
URL:https://dbeinpa.org/event/state-board-meeting/
END:VEVENT
BEGIN:VEVENT
DTSTART;TZID=UTC:20230404T190000
DTEND;TZID=UTC:20230404T210000
DTSTAMP:20260421T221122
CREATED:20230312T161633Z
LAST-MODIFIED:20230312T161801Z
UID:1056-1680634800-1680642000@dbeinpa.org
SUMMARY:State Board Meeting
DESCRIPTION:
URL:https://dbeinpa.org/event/state-board-meeting-2/
END:VEVENT
BEGIN:VEVENT
DTSTART;TZID=UTC:20230325T094500
DTEND;TZID=UTC:20230325T140000
DTSTAMP:20260421T221122
CREATED:20230302T162409Z
LAST-MODIFIED:20231018T181346Z
UID:863-1679737500-1679752800@dbeinpa.org
SUMMARY:2023 DBE in Pennsylvania ACM (Annual Council Meeting)
DESCRIPTION:Saturday\, March 25th\, 2023\nOverbrook Golf Club\n799 Godfrey Road Villanova\, PA 19085 \n\n\n\nRegistration Credentials* …………………………………………………………………………………………………………. 9:45 a.m.\nBusiness Meeting …………………………………………………………………………………………………………………. 10:00 a.m.\nCocktails ……………………………………………………………………………………………………………………………… 11:45 a.m.\nLuncheon …………………………………………………………………………………………………………………………….. 12:30 a.m. \nTHE BUSINESS MEETING is open to all members of DBE in PA.\nMembers unable to attend the meeting are welcome to attend the luncheon.\nFriends & spouses are very welcome to join members for cocktails & luncheon.\nLuncheon price for both members & guests is $36 each plus cash bar.\n*Complimentary Tea & Coffee \n\nDIRECTIONS:\nOverbrook Golf Club\n799 Godfrey Road\nVillanova\, PA 19085\nFROM LANCASTER AVENUE (ROUTE 30)\, VILLANOVA\nHead south on route 320\, past Radnor Country Club.\nTurn right on Godfrey Road (immediately after Villa Maria Academy’s fence).\nEntrance to Club is approximately 10 miles down Godfrey\, on the left.\nDrive straight ahead past some smaller buildings to Club House on right.\nParking is just beyond Club House. \nQuestions? xpatviv@aol.com or 610-793-1547
URL:https://dbeinpa.org/event/2022-dbe-in-pennsylvania-acm-annual-council-meeting/
LOCATION:Overbrook Golf Club\, Saturday\, March 25th\, 2023 Overbrook Golf Club 799 Godfrey Road\, Villanova\, PA\, 19085\, United States
ORGANIZER;CN="Vivienne Jones":MAILTO:xpatviv@aol.com
END:VEVENT
BEGIN:VEVENT
DTSTART;TZID=UTC:20230207T190000
DTEND;TZID=UTC:20230207T210000
DTSTAMP:20260421T221122
CREATED:20230312T162151Z
LAST-MODIFIED:20230312T162802Z
UID:1058-1675796400-1675803600@dbeinpa.org
SUMMARY:DBE State Board Meeting
DESCRIPTION:
URL:https://dbeinpa.org/event/dbe-state-board-meeting/
END:VEVENT
END:VCALENDAR