BEGIN:VCALENDAR
VERSION:2.0
PRODID:-//a British and Commonwealth of Nations Women&#039;s Organization - ECPv6.15.20//NONSGML v1.0//EN
CALSCALE:GREGORIAN
METHOD:PUBLISH
X-WR-CALNAME:a British and Commonwealth of Nations Women&#039;s Organization
X-ORIGINAL-URL:https://dbeinpa.org
X-WR-CALDESC:Events for a British and Commonwealth of Nations Women&#039;s Organization
REFRESH-INTERVAL;VALUE=DURATION:PT1H
X-Robots-Tag:noindex
X-PUBLISHED-TTL:PT1H
BEGIN:VTIMEZONE
TZID:UTC
BEGIN:STANDARD
TZOFFSETFROM:+0000
TZOFFSETTO:+0000
TZNAME:UTC
DTSTART:20250101T000000
END:STANDARD
END:VTIMEZONE
BEGIN:VEVENT
DTSTART;TZID=UTC:20260503T080000
DTEND;TZID=UTC:20260506T170000
DTSTAMP:20260421T125904
CREATED:20260214T175129Z
LAST-MODIFIED:20260214T175613Z
UID:2554-1777795200-1778086800@dbeinpa.org
SUMMARY:2026 National Council Meeting
DESCRIPTION:Sunday\, May 3\, 2026 \n\n\n\n4:00 PM 5:00 PM \n\n\n\nChateau on the Lake Resort Spa & Convention Center 415 North State Highway 265 Branson\, MO\, 65616 United States (map)
URL:https://dbeinpa.org/event/2026-national-council-meeting/
LOCATION:Chateau on the Lake Resort Spa & Convention Center\, 415 North State Highway 265\, Branson\, Missouri\, 65616\, United States
END:VEVENT
END:VCALENDAR