BEGIN:VCALENDAR
VERSION:2.0
PRODID:-//a British and Commonwealth of Nations Women&#039;s Organization - ECPv6.15.20//NONSGML v1.0//EN
CALSCALE:GREGORIAN
METHOD:PUBLISH
X-WR-CALNAME:a British and Commonwealth of Nations Women&#039;s Organization
X-ORIGINAL-URL:https://dbeinpa.org
X-WR-CALDESC:Events for a British and Commonwealth of Nations Women&#039;s Organization
REFRESH-INTERVAL;VALUE=DURATION:PT1H
X-Robots-Tag:noindex
X-PUBLISHED-TTL:PT1H
BEGIN:VTIMEZONE
TZID:UTC
BEGIN:STANDARD
TZOFFSETFROM:+0000
TZOFFSETTO:+0000
TZNAME:UTC
DTSTART:20250101T000000
END:STANDARD
END:VTIMEZONE
BEGIN:VEVENT
DTSTART;TZID=UTC:20260418T140000
DTEND;TZID=UTC:20260418T160000
DTSTAMP:20260421T112819
CREATED:20260214T173615Z
LAST-MODIFIED:20260214T174114Z
UID:2545-1776520800-1776528000@dbeinpa.org
SUMMARY:Stars\, Stripes\, and Scones
DESCRIPTION:Fundraising tea in support of local Senior Support Services. \n\n\n\nEnjoy a refined afternoon of carefully selected teas\, savory offerings\, and sweet confections served in the tradition of classic afternoon tea.
URL:https://dbeinpa.org/event/stars-stripes-and-scones/
LOCATION:Saint John’s Episcopal Church Parish Hall\, 576 Concord Road\, Glen Mills\, Pennsylvania\, 19342\, United States
END:VEVENT
END:VCALENDAR