BEGIN:VCALENDAR
VERSION:2.0
PRODID:-//a British and Commonwealth of Nations Women&#039;s Organization - ECPv6.15.20//NONSGML v1.0//EN
CALSCALE:GREGORIAN
METHOD:PUBLISH
X-ORIGINAL-URL:https://dbeinpa.org
X-WR-CALDESC:Events for a British and Commonwealth of Nations Women&#039;s Organization
REFRESH-INTERVAL;VALUE=DURATION:PT1H
X-Robots-Tag:noindex
X-PUBLISHED-TTL:PT1H
BEGIN:VTIMEZONE
TZID:UTC
BEGIN:STANDARD
TZOFFSETFROM:+0000
TZOFFSETTO:+0000
TZNAME:UTC
DTSTART:20250101T000000
END:STANDARD
END:VTIMEZONE
BEGIN:VEVENT
DTSTART;TZID=UTC:20260412T093000
DTEND;TZID=UTC:20260412T140000
DTSTAMP:20260421T113718
CREATED:20251017T164637Z
LAST-MODIFIED:20260307T170830Z
UID:2453-1775986200-1776002400@dbeinpa.org
SUMMARY:2026 Annual Council Meeting
DESCRIPTION:Scan to Pay or go to:https://www.zeffy.com/en-US/ticketing/dbe-annual-council-meeting-and-luncheon \n\n\n\n\n\n\n\n\n\n\n\n$38 Donation \n\n\n\n\n\nPLEASE RSVP WITH YOUR MEAL CHOICE TO AFTER ONLINE PAYMENT:Angela Dietrich\, Treasurer\, DBE in PA @ treasurer@dbeinpa.org \n\n\n\nDownload Invitation PDF Here
URL:https://dbeinpa.org/event/2026-annual-council-meeting/
LOCATION:Overbrook Golf Club – Villanova\, 799 Godfrey Road\, Villanova\, Pennsylvania\, 19085\, United States
END:VEVENT
BEGIN:VEVENT
DTSTART;TZID=UTC:20260412T160000
DTEND;TZID=UTC:20260412T180000
DTSTAMP:20260421T113718
CREATED:20260304T190225Z
LAST-MODIFIED:20260304T190249Z
UID:2566-1776009600-1776016800@dbeinpa.org
SUMMARY:AFTERNOON TEA AND FASHION SHOW
DESCRIPTION:
URL:https://dbeinpa.org/event/afternoon-tea-and-fashion-show/
LOCATION:Ormiston\, 2000 Reservoir Drive\, Philadelphia\, Pennsylvania\, 19121\, United States
END:VEVENT
END:VCALENDAR