BEGIN:VCALENDAR
VERSION:2.0
PRODID:-//a British and Commonwealth of Nations Women&#039;s Organization - ECPv6.15.20//NONSGML v1.0//EN
CALSCALE:GREGORIAN
METHOD:PUBLISH
X-ORIGINAL-URL:https://dbeinpa.org
X-WR-CALDESC:Events for a British and Commonwealth of Nations Women&#039;s Organization
REFRESH-INTERVAL;VALUE=DURATION:PT1H
X-Robots-Tag:noindex
X-PUBLISHED-TTL:PT1H
BEGIN:VTIMEZONE
TZID:UTC
BEGIN:STANDARD
TZOFFSETFROM:+0000
TZOFFSETTO:+0000
TZNAME:UTC
DTSTART:20250101T000000
END:STANDARD
END:VTIMEZONE
BEGIN:VEVENT
DTSTART;TZID=UTC:20260124T113000
DTEND;TZID=UTC:20260124T140000
DTSTAMP:20260421T132517
CREATED:20251007T202408Z
LAST-MODIFIED:20260115T223446Z
UID:2425-1769254200-1769263200@dbeinpa.org
SUMMARY:2026 Robert Burns Birthday Celebration
DESCRIPTION:📅 Date: Saturday\, January 24\, 2026🕚 Time: 11:30 AM – 2:00 PM📍 Location: The Hickman – Jeanes Building\, 444 N Walnut St\, West Chester\, PA 19380 \n\n\n\nDonation Fee: $40Scottish Cuisine Includes Haggis\, Neeps & Tatties\, Meatloaf and Salad. \n\n\n\nFEATURING LIVE ENTERTAINMENT \n\n\n\nCharlie ZahmOne of the strongest voices in the musical worlds of the Celts\, Early America\, and the Civil War — a favorite across Celtic and folk festivals nationwide. \n\n\n\nBagpipers & DrumsBringing the traditional sound of the Highlands to life! \n\n\n\nRSVPSeating is limited\, please sign up by January 21st. No Walk Ins. \n\n\n\nPay online via Venmo: \n\n\n\n\n\n\n\nOr\, make Checks payable to Rose of Chester and mail to Linda Witcraft at 168 S Orchard Avenue\, Kennett Square\, Pennsylvania 19348 \n\n\n\nPARKING IS INCLUDED!Guests may use the West Chester Friends School lot at 415 N High Street\, located directly behind The Hickman (Jeanes Building on the right). \n\n\n\nBRING A FRIEND and join us in a wee dram to celebrate Scotland’s bard with music\, poetry\, and camaraderie as we honor Robert Burns — with good company\, good cheer\, and a touch of haggis!
URL:https://dbeinpa.org/event/2026-robert-burns-birthday-celebration/
LOCATION:Pennsylvania
END:VEVENT
END:VCALENDAR