BEGIN:VCALENDAR
VERSION:2.0
PRODID:-//a British and Commonwealth of Nations Women&#039;s Organization - ECPv6.15.20//NONSGML v1.0//EN
CALSCALE:GREGORIAN
METHOD:PUBLISH
X-ORIGINAL-URL:https://dbeinpa.org
X-WR-CALDESC:Events for a British and Commonwealth of Nations Women&#039;s Organization
REFRESH-INTERVAL;VALUE=DURATION:PT1H
X-Robots-Tag:noindex
X-PUBLISHED-TTL:PT1H
BEGIN:VTIMEZONE
TZID:UTC
BEGIN:STANDARD
TZOFFSETFROM:+0000
TZOFFSETTO:+0000
TZNAME:UTC
DTSTART:20240101T000000
END:STANDARD
END:VTIMEZONE
BEGIN:VEVENT
DTSTART;TZID=UTC:20251019T160000
DTEND;TZID=UTC:20251019T190000
DTSTAMP:20260421T175549
CREATED:20250410T212222Z
LAST-MODIFIED:20251002T202411Z
UID:2346-1760889600-1760900400@dbeinpa.org
SUMMARY:2025 DBE In PA Gala
DESCRIPTION:Scan to Pay or go to:www.zeffy.com/en-US/ticketing/dbe-in-pennsylvania-2025-annual-gala \n\n\n\n\n\n\n\n\n\n\n\n$30 Donation
URL:https://dbeinpa.org/event/2025-dbe-in-pa-gala/
LOCATION:Fred Bissinger’s Carriage House\, 1502 Old Gulph Road\, Villanova\, Pennsylvania\, 19085\, United States
END:VEVENT
END:VCALENDAR