BEGIN:VCALENDAR
VERSION:2.0
PRODID:-//a British and Commonwealth of Nations Women&#039;s Organization - ECPv6.15.20//NONSGML v1.0//EN
CALSCALE:GREGORIAN
METHOD:PUBLISH
X-WR-CALNAME:a British and Commonwealth of Nations Women&#039;s Organization
X-ORIGINAL-URL:https://dbeinpa.org
X-WR-CALDESC:Events for a British and Commonwealth of Nations Women&#039;s Organization
REFRESH-INTERVAL;VALUE=DURATION:PT1H
X-Robots-Tag:noindex
X-PUBLISHED-TTL:PT1H
BEGIN:VTIMEZONE
TZID:UTC
BEGIN:STANDARD
TZOFFSETFROM:+0000
TZOFFSETTO:+0000
TZNAME:UTC
DTSTART:20240101T000000
END:STANDARD
END:VTIMEZONE
BEGIN:VEVENT
DTSTART;TZID=UTC:20250301T060000
DTEND;TZID=UTC:20250301T210000
DTSTAMP:20260422T043624
CREATED:20250212T131858Z
LAST-MODIFIED:20250212T132656Z
UID:2251-1740808800-1740862800@dbeinpa.org
SUMMARY:The Welsh Society 297th Reception and Banquet
DESCRIPTION:Book Your Reservation\n\n\n\nDonate
URL:https://dbeinpa.org/event/the-welsh-society-297th-reception-and-banquet/
LOCATION:Pennsylvania
END:VEVENT
END:VCALENDAR